0.50818386738889
0.00000000000000
0.00000000000000
-0.50818386738889
2373781.69
4223652.28
