0.50787771299857
0.00000000000000
0.00000000000000
-0.50787771299857
2373593.01
4212550.80
