0.50793282644615
0.00000000000000
0.00000000000000
-0.50793282644615
2380908.67
4212427.22
