0.84745409889494
0.00000000000000
0.00000000000000
-0.84745409889494
2476049.44309719230000
4216941.39213580270000
