0.84765307592160
0.00000000000000
0.00000000000000
-0.84765307592160
2483308.05788733070000
4216912.94540089830000
