0.84736071062723
0.00000000000000
0.00000000000000
-0.84736071062723
2490628.75604341780000
4227930.22327955720000
