0.84874643438903
0.00000000000000
0.00000000000000
-0.84874643438903
2512586.28720408680000
4222385.90270076510000
