0.84758494670069
0.00000000000000
0.00000000000000
-0.84758494670069
2490631.17546325460000
4216903.45730314780000
