0.84836829054492
0.00000000000000
0.00000000000000
-0.84836829054492
2519866.20981113800000
4222720.21388152430000
