0.84727715052819
0.00000000000000
0.00000000000000
-0.84727715052819
2519892.66721127600000
4216840.95611293060000
