0.84885455599660
0.00000000000000
0.00000000000000
-0.84885455599660
2527204.60133159580000
4216850.85866437290000
