0.84916071966607
0.00000000000000
0.00000000000000
-0.84916071966607
2519892.65779345390000
4211292.98834533620000
