0.84791932760230
0.00000000000000
0.00000000000000
-0.84791932760230
2563730.07174274420000
4222510.92046577860000
