0.50790972963823
0.00000000000000
0.00000000000000
-0.50790972963823
2314797.74
4208351.92
