0.50814510132096
0.00000000000000
0.00000000000000
-0.50814510132096
2314624.91
4197156.77
