0.50847547799780
0.00000000000000
0.00000000000000
-0.50847547799780
2358839.49
4207281.06
