0.50827290691641
0.00000000000000
0.00000000000000
-0.50827290691641
2351292.89
4196330.10
