0.84885089281501
0.00000000000000
0.00000000000000
-0.84885089281501
2468638.63859685650000
4205859.40346867220000
