0.84856727220297
0.00000000000000
0.00000000000000
-0.84856727220297
2483283.25289172960000
4205793.63712478430000
