0.84840623298831
0.00000000000000
0.00000000000000
-0.84840623298831
2475911.41423761150000
4200274.67186307530000
