0.84938395442274
0.00000000000000
0.00000000000000
-0.84938395442274
2505248.84703024990000
4205744.85399533620000
