0.84832926247599
0.00000000000000
0.00000000000000
-0.84832926247599
2505239.09641931490000
4200196.75063958390000
