0.84858076171519
0.00000000000000
0.00000000000000
-0.84858076171519
2512565.80421076900000
4200193.77128487640000
