0.84739889529544
0.00000000000000
0.00000000000000
-0.84739889529544
2541898.29512975920000
4194656.43612429590000
