0.84721073962669
0.00000000000000
0.00000000000000
-0.84721073962669
2541884.85460529340000
4189146.74072358250000
