0.565259
0.000
0.000
-0.565259
2350735.468
4168584.166
