0.568290
0.000
0.000
-0.568290
2358093.095
4168436.894
