0.50762998995143
0.00000000000000
0.00000000000000
-0.50762998995143
2424497.84
4184058.33
