0.50754624714065
0.00000000000000
0.00000000000000
-0.50754624714065
2402392.76
4178792.78
