0.50746150947232
0.00000000000000
0.00000000000000
-0.50746150947232
2402309.29
4173244.17
