0.50841583362413
0.00000000000000
0.00000000000000
-0.50841583362413
2482682.81
4167223.05
