0.84987168919193
0.00000000000000
0.00000000000000
-0.84987168919193
2527239.34461133650000
4178016.30563039330000
