0.84881334284847
0.00000000000000
0.00000000000000
-0.84881334284847
2534610.51839061080000
4178010.95308284180000
