0.84831671932471
0.00000000000000
0.00000000000000
-0.84831671932471
2519892.72181031150000
4166911.10248220570000
