0.84829316960689
0.00000000000000
0.00000000000000
-0.84829316960689
2244621.73391719950000
4075714.84075074130000
