0.557726
0.000
0.000
-0.557726
2350399.502
4151935.010
