0.550149
0.000
0.000
-0.550149
2357663.994
4146239.935
