0.50876777895215
0.00000000000000
0.00000000000000
-0.50876777895215
2423557.72
4151094.09
