0.50834122402740
0.00000000000000
0.00000000000000
-0.50834122402740
2401383.60
4145849.85
