0.50902831487737
0.00000000000000
0.00000000000000
-0.50902831487737
2438401.73
4161873.72
