0.50987981484456
0.00000000000000
0.00000000000000
-0.50987981484456
2453124.43
4161702.46
