0.50954201224870
0.00000000000000
0.00000000000000
-0.50954201224870
2430904.91
4150867.07
