0.50971444402240
0.00000000000000
0.00000000000000
-0.50971444402240
2445653.21
4150679.89
