0.50882477904285
0.00000000000000
0.00000000000000
-0.50882477904285
2475243.42
4156151.52
