0.50971440168196
0.00000000000000
0.00000000000000
-0.50971440168196
2475144.19
4150375.45
