0.50894395583276
0.00000000000000
0.00000000000000
-0.50894395583276
2475119.85
4144963.72
