0.85019705022804
0.00000000000000
0.00000000000000
-0.85019705022804
2505170.34501544200000
4161363.17876089690000
