0.84965010486786
0.00000000000000
0.00000000000000
-0.84965010486786
2512530.92407189870000
4161359.64968463410000
