0.84974797963263
0.00000000000000
0.00000000000000
-0.84974797963263
2512525.63339153440000
4155812.60108923820000
