0.8523910000
0.0000000000
0.0000000000
-0.8523910000
2563696.0478097009
4233593.8912939699
